BEGIN:VCALENDAR
VERSION:2.0
PRODID:-//OrthAlign - ECPv6.15.20//NONSGML v1.0//EN
CALSCALE:GREGORIAN
METHOD:PUBLISH
X-WR-CALNAME:OrthAlign
X-ORIGINAL-URL:https://www.orthalign.com
X-WR-CALDESC:Events for OrthAlign
REFRESH-INTERVAL;VALUE=DURATION:PT1H
X-Robots-Tag:noindex
X-PUBLISHED-TTL:PT1H
BEGIN:VTIMEZONE
TZID:UTC
BEGIN:STANDARD
TZOFFSETFROM:+0000
TZOFFSETTO:+0000
TZNAME:UTC
DTSTART:20250101T000000
END:STANDARD
END:VTIMEZONE
BEGIN:VEVENT
DTSTART;VALUE=DATE:20260303
DTEND;VALUE=DATE:20260306
DTSTAMP:20260424T164107
CREATED:20260302T223652Z
LAST-MODIFIED:20260302T223652Z
UID:4794-1772496000-1772755199@www.orthalign.com
SUMMARY:American Academy of Orthopaedic Surgeons 2026 Annual Meeting
DESCRIPTION:American Academy of Orthopaedic Surgeons 2026 Annual Meeting will take place on March 3rd – 5th\, 2026.  \n“The AAOS provides education programs for orthopaedic surgeons and allied health professionals\, champions and advances the highest quality musculoskeletal care for patients\, and is the authoritative source of information on bone and joint conditions\, treatments and related issues.” AAOS Overview – History and Background – American Academy of Orthopaedic Surgeons
URL:https://www.orthalign.com/event/american-academy-of-orthopaedic-surgeons-2026-annual-meeting/
LOCATION:Morial Convention Center New Orleans\, 900 Convention Center Blvd\, New Orleans\, LA\, 70130\, United States
END:VEVENT
END:VCALENDAR